BEGIN:VCALENDAR
VERSION:2.0
PRODID:-//Cani-Fit - ECPv4.9.9//NONSGML v1.0//EN
CALSCALE:GREGORIAN
METHOD:PUBLISH
X-WR-CALNAME:Cani-Fit
X-ORIGINAL-URL:https://cani-fit.com
X-WR-CALDESC:Events for Cani-Fit
BEGIN:VTIMEZONE
TZID:UTC
BEGIN:STANDARD
TZOFFSETFROM:+0000
TZOFFSETTO:+0000
TZNAME:UTC
DTSTART:20230101T000000
END:STANDARD
END:VTIMEZONE
BEGIN:VEVENT
DTSTART;TZID=UTC:20230211T100000
DTEND;TZID=UTC:20230211T110000
DTSTAMP:20260419T192148
CREATED:20221215T191036Z
LAST-MODIFIED:20230116T155519Z
UID:61027-1676109600-1676113200@cani-fit.com
SUMMARY:Stevenston Beach Pop Up
DESCRIPTION:Stevenston Beach\, KA20 3PW \nMeeting point is at Stevenston Point car park. Make sure you take the turning up Shore Road\, passing the playpark on your right hand side. Sat Navs seem to like taking you along Trelwney Terrance which is the wrong way! \nClick here for What3Words location link \nSee our class info page for more detail on what to expect from a Cani-Fit class \nAdditional Info\n\nWear trainers and clothes you can exercise in\nBring water and a treat for your dog\nDo not feed your dog for approx 3 hours prior to class start\nUnsuitable for dogs under 11 months\nPlease read our Weather Cancellation Policy\n\nABILITY LEVEL\nLEVEL 1\, 2 & 3 \n
URL:https://cani-fit.com/event/stevenston-beach-pop-up/
LOCATION:Stevenston Beach\, KA20 3LZ\, United Kingdom
CATEGORIES:Ayrshire,Classes
ATTACH;FMTTYPE=image/jpeg:https://cani-fit.com/wp-content/uploads/2021/10/236888789_3892222177550715_8822524850075679533_n-e1633688293262.jpg
ORGANIZER;CN="Leigh-Ann%20Cherry":MAILTO:Leigh-Ann_Cherry@sky.com
END:VEVENT
END:VCALENDAR