BEGIN:VCALENDAR
VERSION:2.0
PRODID:-//Cani-Fit - ECPv4.9.9//NONSGML v1.0//EN
CALSCALE:GREGORIAN
METHOD:PUBLISH
X-WR-CALNAME:Cani-Fit
X-ORIGINAL-URL:https://cani-fit.com
X-WR-CALDESC:Events for Cani-Fit
BEGIN:VTIMEZONE
TZID:UTC
BEGIN:STANDARD
TZOFFSETFROM:+0000
TZOFFSETTO:+0000
TZNAME:UTC
DTSTART:20210101T000000
END:STANDARD
END:VTIMEZONE
BEGIN:VEVENT
DTSTART;TZID=UTC:20210814T103000
DTEND;TZID=UTC:20210814T113000
DTSTAMP:20260421T134751
CREATED:20210607T091415Z
LAST-MODIFIED:20210607T091415Z
UID:53610-1628937000-1628940600@cani-fit.com
SUMMARY:Stevenston Beach Cani-Hike
DESCRIPTION:Please take a few minutes to read our Covid-19 class information \nCani-Hiking is a power walking only class . No running ! Come learn new routes\, socialise your dogs with others\, learn the basics of Cani-Fit at a fast walking pace. Suited to those who for whatever reason can not or do not want to run ! \nKA20 3PW \nMeeting point is at Stevenston Pier car park \nClick here for What3Words location link \nSee our class info page for more detail on what to expect from a Cani-Fit class \nAdditional Info\n\nPower Walk only\nWear trainers and clothes you can exercise in\nBring water and a treat for your dog\nUnsuitable for dogs under 10 months\nPlease read our Weather Cancellation Policy\n\nABILITY LEVEL\nPOWER WALKING \n
URL:https://cani-fit.com/event/stevenston-2/
LOCATION:Stevenston Beach\, KA20 3LZ\, United Kingdom
CATEGORIES:Ayrshire,Classes
ATTACH;FMTTYPE=image/jpeg:https://cani-fit.com/wp-content/uploads/2016/11/irvine-beach.jpg
ORGANIZER;CN="Lindsay%20Johnson":MAILTO:info@cani-fit.com
END:VEVENT
END:VCALENDAR