BEGIN:VCALENDAR
VERSION:2.0
PRODID:-//Cani-Fit - ECPv4.9.9//NONSGML v1.0//EN
CALSCALE:GREGORIAN
METHOD:PUBLISH
X-WR-CALNAME:Cani-Fit
X-ORIGINAL-URL:https://cani-fit.com
X-WR-CALDESC:Events for Cani-Fit
BEGIN:VTIMEZONE
TZID:UTC
BEGIN:STANDARD
TZOFFSETFROM:+0000
TZOFFSETTO:+0000
TZNAME:UTC
DTSTART:20230101T000000
END:STANDARD
END:VTIMEZONE
BEGIN:VEVENT
DTSTART;TZID=UTC:20231010T190000
DTEND;TZID=UTC:20231031T200000
DTSTAMP:20260420T202825
CREATED:20230908T164201Z
LAST-MODIFIED:20231011T132916Z
UID:62733-1696964400-1698782400@cani-fit.com
SUMMARY:Renfrewshire Block
DESCRIPTION:Dates for this block are as follows: \n10/10 Lochwinnoch\, PA12 4EA\, meeting at the main Car Park\, Castle Semple Visitor Centre \n17/10 Linwood Moss\, PA3 2RA\, meeting at the On-X car park \n24/10 Lochwinnoch as above \n31/10 Boden Boo\, PA8 6AX \nClick the links above for What3Words location. \nSee our class info page for more detail on what to expect from a Cani-Fit class \nAdditional Info\n\nWear trainers and clothes you can exercise in\nBring water and a treat for your dog\nUnsuitable for dogs under 11 months\nDo not feed your dog for approx 3 hours prior to class start\n** All winter evening classes require you to bring a headtorch and some Hi-Viz/reflective clothing**\nPlease read our Weather Cancellation Policy\n\nCLASS TYPE\nCanicross class \nIf you are unable to attend the full block\, you can always purchase a rolling 3 class pass which can be used at any canicross or cani-hike class over an 8 week/2 block period. Simply purchase the pass and notify the leader that you will be attending using the pass. \nYou can also purchase a monthly pass which allows you to attend any 8 canicross or hike classes in the calendar month. Again\, simply purchase the pass and notify the leader. \n
URL:https://cani-fit.com/event/renfrewshire-block-16/
LOCATION:Various\, Various
CATEGORIES:Classes,Renfrewshire
ATTACH;FMTTYPE=image/jpeg:https://cani-fit.com/wp-content/uploads/2019/07/Parkhill-Woods-Lochwinnoch-1.jpg
ORGANIZER;CN="Joy%20Green":MAILTO:joycanifit@gmail.com
END:VEVENT
END:VCALENDAR