BEGIN:VCALENDAR
VERSION:2.0
PRODID:-//Cani-Fit - ECPv4.9.9//NONSGML v1.0//EN
CALSCALE:GREGORIAN
METHOD:PUBLISH
X-WR-CALNAME:Cani-Fit
X-ORIGINAL-URL:https://cani-fit.com
X-WR-CALDESC:Events for Cani-Fit
BEGIN:VTIMEZONE
TZID:UTC
BEGIN:STANDARD
TZOFFSETFROM:+0000
TZOFFSETTO:+0000
TZNAME:UTC
DTSTART:20210101T000000
END:STANDARD
END:VTIMEZONE
BEGIN:VEVENT
DTSTART;TZID=UTC:20210724T100000
DTEND;TZID=UTC:20210724T110000
DTSTAMP:20260424T180037
CREATED:20210523T201400Z
LAST-MODIFIED:20210523T201400Z
UID:53387-1627120800-1627124400@cani-fit.com
SUMMARY:Milgarholm Park Beginners - Week 3
DESCRIPTION:Please take a few minutes to read our Covid-19 class information \nMeeting at the Milgarholm Park Car Park\, KA12 0EW is the nearest postcode but advise you to use What3Words \nIf coming from A71\, car park is on your left hand side once you come off the Milgarholm Roundabout – if you cross the blue bridge you’ve gone too far \nClick here for What3Words location link \nSee our class info page for more detail on what to expect from a Cani-Fit class \nAdditional Info\n\nWear trainers and clothes you can exercise in\nBring water and a treat for your dog\nDo not feed your dog for approx 3 hours prior to class start\nUnsuitable for dogs under 11 months\n** All winter evening classes require you to bring a headtorch and some Hi-Viz/reflective clothing**\nPlease read our Weather Cancellation Policy\n\nABILITY LEVEL\nLEVEL 1 \n
URL:https://cani-fit.com/event/milgarholm/
LOCATION:Milgarholm Park\, KA12 0\, United Kingdom
CATEGORIES:Ayrshire,Classes
ATTACH;FMTTYPE=image/jpeg:https://cani-fit.com/wp-content/uploads/2021/05/189328652_467516017887400_18653095876515521_n.jpg
END:VEVENT
END:VCALENDAR