BEGIN:VCALENDAR
VERSION:2.0
PRODID:-//Cani-Fit - ECPv4.9.9//NONSGML v1.0//EN
CALSCALE:GREGORIAN
METHOD:PUBLISH
X-WR-CALNAME:Cani-Fit
X-ORIGINAL-URL:https://cani-fit.com
X-WR-CALDESC:Events for Cani-Fit
BEGIN:VTIMEZONE
TZID:UTC
BEGIN:STANDARD
TZOFFSETFROM:+0000
TZOFFSETTO:+0000
TZNAME:UTC
DTSTART:20210101T000000
END:STANDARD
END:VTIMEZONE
BEGIN:VEVENT
DTSTART;TZID=UTC:20210926T093000
DTEND;TZID=UTC:20210926T103000
DTSTAMP:20260421T035400
CREATED:20210803T113307Z
LAST-MODIFIED:20210922T142349Z
UID:54728-1632648600-1632652200@cani-fit.com
SUMMARY:Glen Park Beginners Cani-Hike
DESCRIPTION:Cani-Hiking is a power walking only class . No running ! Come learn new routes\, socialise your dogs with others\, learn the basics of Cani-Fit at a fast walking pace. Suited to those who for whatever reason can not or do not want to run ! \nGlen Park\, Gleniffer Braes \nPA2 8TE \nClick here for What3Words location link \nSee our class info page for more detail on what to expect from a Cani-Fit class. \nAdditional Info\n\nPower Walk only\nWear trainers and clothes you can exercise in\nBring water and a treat for your dog\nUnsuitable for dogs under 10 months\nPlease read our Weather Cancellation Policy\n\nABILITY LEVEL\nPOWER WALKING \n
URL:https://cani-fit.com/event/glenpark/
LOCATION:The Glen Park\, PA2 8TE\, United Kingdom
CATEGORIES:Classes,Renfrewshire
ATTACH;FMTTYPE=image/jpeg:https://cani-fit.com/wp-content/uploads/2020/10/gleniffer-hike.jpg
ORGANIZER;CN="Heather%20Hopkins":MAILTO:heathercanifit@gmail.com
GEO:55.8172076;-4.4264436
END:VEVENT
END:VCALENDAR