BEGIN:VCALENDAR
VERSION:2.0
PRODID:-//Cani-Fit - ECPv4.9.9//NONSGML v1.0//EN
CALSCALE:GREGORIAN
METHOD:PUBLISH
X-WR-CALNAME:Cani-Fit
X-ORIGINAL-URL:https://cani-fit.com
X-WR-CALDESC:Events for Cani-Fit
BEGIN:VTIMEZONE
TZID:UTC
BEGIN:STANDARD
TZOFFSETFROM:+0000
TZOFFSETTO:+0000
TZNAME:UTC
DTSTART:20220101T000000
END:STANDARD
END:VTIMEZONE
BEGIN:VEVENT
DTSTART;TZID=UTC:20221103T190000
DTEND;TZID=UTC:20221124T200000
DTSTAMP:20260421T005020
CREATED:20221014T125533Z
LAST-MODIFIED:20221014T125533Z
UID:60556-1667502000-1669320000@cani-fit.com
SUMMARY:Dunbartonshire Thursday Block
DESCRIPTION:Dates for this  block as follows: \n03/11 Balloch Park\, G83 8LE meeting at Moss O’Balloch Car Park \n10/11 Mugdock East Car Park\, G62 8EL \n17/11 Strathleven House G82 3PD\, meet in small car park behind the main car park for the house \n24/11 Auchnacraig\, G81 5QW\, meeting point is Auchnacraig Wood Car Park \n  \nSee our class info page for more detail on what to expect from a Cani-Fit class \nAdditional Info\n\nWear trainers and clothes you can exercise in\nBring water and a treat for your dog\nDo not feed your dog for approx 3 hours prior to class start\nUnsuitable for dogs under 11 months\n** All winter evening classes require you to bring a headtorch and some Hi-Viz/reflective clothing**\nPlease read our Weather Cancellation Policy\n\nABILITY LEVEL\nLEVEL 1\, 2 & 3  \nIf you are unable to attend the full block\, you can always purchase a rolling 3 class pass which can be used at any canicross or cani-hike class over an 8 week/2 block period. Simply purchase the pass and notify the leader that you will be attending using the pass. \nYou can also purchase a monthly pass which allows you to attend any 8 canicross or hike classes in the calendar month. Again\, simply purchase the pass and notify the leader. \n
URL:https://cani-fit.com/event/dunbartonshire/
LOCATION:Valleyfield Woodland Park\, Valleyfield Woodland Park\, Dunfermline\, ky12 8er\, United Kingdom
CATEGORIES:Classes,East Dunbartonshire,West Dunbartonshire
ATTACH;FMTTYPE=image/jpeg:https://cani-fit.com/wp-content/uploads/2018/05/Mugdock-2.jpg
GEO:55.378051;-3.435973
X-APPLE-STRUCTURED-LOCATION;VALUE=URI;X-ADDRESS=Valleyfield Woodland Park Valleyfield Woodland Park Dunfermline ky12 8er United Kingdom;X-APPLE-RADIUS=500;X-TITLE=Valleyfield Woodland Park:geo:-3.435973,55.378051
END:VEVENT
END:VCALENDAR