BEGIN:VCALENDAR
VERSION:2.0
PRODID:-//Cani-Fit - ECPv4.9.9//NONSGML v1.0//EN
CALSCALE:GREGORIAN
METHOD:PUBLISH
X-WR-CALNAME:Cani-Fit
X-ORIGINAL-URL:https://cani-fit.com
X-WR-CALDESC:Events for Cani-Fit
BEGIN:VTIMEZONE
TZID:UTC
BEGIN:STANDARD
TZOFFSETFROM:+0000
TZOFFSETTO:+0000
TZNAME:UTC
DTSTART:20210101T000000
END:STANDARD
END:VTIMEZONE
BEGIN:VEVENT
DTSTART;TZID=UTC:20210712T190000
DTEND;TZID=UTC:20210712T200000
DTSTAMP:20260419T171627
CREATED:20210519T151616Z
LAST-MODIFIED:20210523T195002Z
UID:53263-1626116400-1626120000@cani-fit.com
SUMMARY:Drumpellier Pop Up
DESCRIPTION:Please take a few minutes to read our Covid-19 class information \nML5 2EH \nMeeting point is the car parl closest to the play area \nClick here for What3Words location link \nSee our class info page for more detail on what to expect from a Cani-Fit class \nAdditional Info\n\nWear trainers and clothes you can exercise in\nBring water and a treat for your dog\nUnsuitable for dogs under 11 months\nDo not feed your dog for approx 3 hours prior to class start\n** All winter evening classes require you to bring a headtorch and some Hi-Viz/reflective clothing**\nPlease read our Weather Cancellation Policy\n\nABILITY LEVEL\nLEVEL 1\, 2 & 3 \n
URL:https://cani-fit.com/event/drumpellier/
LOCATION:Drumpellier Country Park\, ML5 1RX\, United Kingdom
CATEGORIES:Classes,North Lanarkshire,South Lanarkshire
ATTACH;FMTTYPE=image/png:https://cani-fit.com/wp-content/uploads/2018/11/SuzanneDrumpellier.png
GEO:55.8714098;-4.0721708
END:VEVENT
END:VCALENDAR