BEGIN:VCALENDAR
VERSION:2.0
PRODID:-//Cani-Fit - ECPv4.9.9//NONSGML v1.0//EN
CALSCALE:GREGORIAN
METHOD:PUBLISH
X-WR-CALNAME:Cani-Fit
X-ORIGINAL-URL:https://cani-fit.com
X-WR-CALDESC:Events for Cani-Fit
BEGIN:VTIMEZONE
TZID:UTC
BEGIN:STANDARD
TZOFFSETFROM:+0000
TZOFFSETTO:+0000
TZNAME:UTC
DTSTART:20210101T000000
END:STANDARD
END:VTIMEZONE
BEGIN:VEVENT
DTSTART;TZID=UTC:20210711T080000
DTEND;TZID=UTC:20210711T093000
DTSTAMP:20260419T183857
CREATED:20210523T193309Z
LAST-MODIFIED:20210523T193309Z
UID:53362-1625990400-1625995800@cani-fit.com
SUMMARY:Devilla Training Class
DESCRIPTION:Please take a few minutes to read our Covid-19 class information \nThese classes are for experienced canicrossers who want a great training run. Less chat and more running but still progressive learning and training \nNearest postcode FK10 4AS \nMeet at Devilla Forest Car Park Click here for What3Words location link \nSee our class info page for more detail on what to expect from a Cani-Fit class \nAdditional Info\n\nWear trainers and clothes you can exercise in\nBring water and a treat for your dog\nUnsuitable for dogs under 11 months\nDo not feed your dog for approx 3 hours prior to class start\nPlease read our Weather Cancellation Policy\n\nABILITY LEVEL\nLEVEL 2 & 3 \n
URL:https://cani-fit.com/event/devilla/
LOCATION:Devilla Forest\, FK10 4AS\, United Kingdom
CATEGORIES:Classes,Fife
ATTACH;FMTTYPE=image/jpeg:https://cani-fit.com/wp-content/uploads/2020/03/beecraigs.jpg
END:VEVENT
END:VCALENDAR