BEGIN:VCALENDAR
VERSION:2.0
PRODID:-//Cani-Fit - ECPv4.9.9//NONSGML v1.0//EN
CALSCALE:GREGORIAN
METHOD:PUBLISH
X-WR-CALNAME:Cani-Fit
X-ORIGINAL-URL:https://cani-fit.com
X-WR-CALDESC:Events for Cani-Fit
BEGIN:VTIMEZONE
TZID:UTC
BEGIN:STANDARD
TZOFFSETFROM:+0000
TZOFFSETTO:+0000
TZNAME:UTC
DTSTART:20210101T000000
END:STANDARD
END:VTIMEZONE
BEGIN:VEVENT
DTSTART;TZID=UTC:20210828T100000
DTEND;TZID=UTC:20210828T110000
DTSTAMP:20260425T134858
CREATED:20210608T084215Z
LAST-MODIFIED:20210608T084215Z
UID:53684-1630144800-1630148400@cani-fit.com
SUMMARY:Dean Park Beginners - Week 3
DESCRIPTION:Please take a few minutes to read our Covid-19 class information \nKA3 1XB \nMeeting point is main visitor car park. \nClick here for What3Words location link \nSee our class info page for more detail on what to expect from a Cani-Fit class \nAdditional Info\n\nWear trainers and clothes you can exercise in\nBring water and a treat for your dog\nDo not feed your dog for approx 3 hours prior to class start\nUnsuitable for dogs under 11 months\n** All winter evening classes require you to bring a headtorch and some Hi-Viz/reflective clothing**\nPlease read our Weather Cancellation Policy\n\nABILITY LEVEL\nLEVEL 1 \n
URL:https://cani-fit.com/event/dean/
LOCATION:Dean Park\, KA3 1XB\, United Kingdom
CATEGORIES:Ayrshire,Classes
ATTACH;FMTTYPE=image/jpeg:https://cani-fit.com/wp-content/uploads/2020/03/Dean-Park-1-360x270-1.jpg
GEO:55.6229006;-4.4841613
END:VEVENT
END:VCALENDAR