BEGIN:VCALENDAR
VERSION:2.0
PRODID:-//Cani-Fit - ECPv4.9.9//NONSGML v1.0//EN
CALSCALE:GREGORIAN
METHOD:PUBLISH
X-WR-CALNAME:Cani-Fit
X-ORIGINAL-URL:https://cani-fit.com
X-WR-CALDESC:Events for Cani-Fit
BEGIN:VTIMEZONE
TZID:UTC
BEGIN:STANDARD
TZOFFSETFROM:+0000
TZOFFSETTO:+0000
TZNAME:UTC
DTSTART:20210101T000000
END:STANDARD
END:VTIMEZONE
BEGIN:VEVENT
DTSTART;TZID=UTC:20210724T100000
DTEND;TZID=UTC:20210724T110000
DTSTAMP:20260424T191005
CREATED:20210519T160937Z
LAST-MODIFIED:20210523T195137Z
UID:53278-1627120800-1627124400@cani-fit.com
SUMMARY:Cumbernauld Community Park Pop Up
DESCRIPTION:Please take a few minutes to read our Covid-19 class information \nG68 0EB \nMeeting point is at the parking bay beside Cumbernauld & St Andrews Primary School \nClick here for What3Words location link \nSee our class info page for more detail on what to expect from a Cani-Fit class \nAdditional Info\n\nWear trainers and clothes you can exercise in\nBring water and a treat for your dog\nUnsuitable for dogs under 11 months\nDo not feed your dog for approx 3 hours prior to class start\n** All winter evening classes require you to bring a headtorch and some Hi-Viz/reflective clothing**\nPlease read our Weather Cancellation Policy\n\nABILITY LEVEL\nLEVEL 1\, 2 & 3 \n
URL:https://cani-fit.com/event/cumbernauld-2/
LOCATION:Cumbernauld Community Park\, G68 0EB\, United Kingdom
CATEGORIES:Classes,North Lanarkshire,South Lanarkshire
ATTACH;FMTTYPE=image/jpeg:https://cani-fit.com/wp-content/uploads/2019/01/CumbernauldCommPark.jpg
GEO:55.9592823;-4.0070709
END:VEVENT
END:VCALENDAR