BEGIN:VCALENDAR
VERSION:2.0
PRODID:-//Cani-Fit - ECPv4.9.9//NONSGML v1.0//EN
CALSCALE:GREGORIAN
METHOD:PUBLISH
X-WR-CALNAME:Cani-Fit
X-ORIGINAL-URL:https://cani-fit.com
X-WR-CALDESC:Events for Cani-Fit
BEGIN:VTIMEZONE
TZID:UTC
BEGIN:STANDARD
TZOFFSETFROM:+0000
TZOFFSETTO:+0000
TZNAME:UTC
DTSTART:20220101T000000
END:STANDARD
END:VTIMEZONE
BEGIN:VEVENT
DTSTART;TZID=UTC:20220625T080000
DTEND;TZID=UTC:20220625T093000
DTSTAMP:20260421T055945
CREATED:20220602T131718Z
LAST-MODIFIED:20220613T174225Z
UID:59645-1656144000-1656149400@cani-fit.com
SUMMARY:Carron Valley Adventure Class
DESCRIPTION:Guided run for those who have attended a class or want a longer run. Approx 5km canicross whilst there will be plenty breaks a decent level of fitness required. Not for complete beginners . \nFK6 5JL\, meeting at MTB Trails Car Park \n\n\nClick here for What3Words location link\n\n\n\nSee our class info page for more detail on what to expect from a Cani-Fit class. \nAdditional Info\n\nWear trainers and clothes you can exercise in\nBring water and a treat for your dog\nDo not feed your dog for approx 3 hours prior to class start\nUnsuitable for dogs under 12 months\nPlease read our Weather Cancellation Policy\n\nABILITY LEVEL\nLEVEL  2 & 3 \n
URL:https://cani-fit.com/event/carron-valley-adventure-class/
LOCATION:Carron Valley Mountain Bike Trails\, FK6 5JL\, United Kingdom
CATEGORIES:Classes,Stirling
ATTACH;FMTTYPE=image/jpeg:https://cani-fit.com/wp-content/uploads/2021/05/IMG_4356-scaled.jpg
ORGANIZER;CN="Rhona%20Stevenson":MAILTO:rhona761@gmail.com
END:VEVENT
END:VCALENDAR