BEGIN:VCALENDAR
VERSION:2.0
PRODID:-//Cani-Fit - ECPv4.9.9//NONSGML v1.0//EN
CALSCALE:GREGORIAN
METHOD:PUBLISH
X-WR-CALNAME:Cani-Fit
X-ORIGINAL-URL:https://cani-fit.com
X-WR-CALDESC:Events for Cani-Fit
BEGIN:VTIMEZONE
TZID:UTC
BEGIN:STANDARD
TZOFFSETFROM:+0000
TZOFFSETTO:+0000
TZNAME:UTC
DTSTART:20230101T000000
END:STANDARD
END:VTIMEZONE
BEGIN:VEVENT
DTSTART;TZID=UTC:20231029T093000
DTEND;TZID=UTC:20231029T120000
DTSTAMP:20260421T043547
CREATED:20230711T124303Z
LAST-MODIFIED:20231026T170049Z
UID:62246-1698571800-1698580800@cani-fit.com
SUMMARY:Canicross & Bikejor Marked Route/Time Trial
DESCRIPTION:** Entries are now closed **\n\nMarked out route for canicross or bikejor. Or why not combine both and make it a duathlon?! Select which you would like to do when purchasing your ticket.\n\n\n\nWhat is a time trial? It is similar to a race\, but no competition – just against yourself and whatever time you hope to achieve. \n\n\n\nWe will be timing\, but it’s just for fun and you can opt out of the timing if you wish\, just let us know!\nYou can go round as many times as you like – go a second time with your other dog\, it’s up to you! Fab mixed woodland and grassy trails\n\n  \n  \nPut your training into action\, give your dog the experience they need. You can go round the course multiple times\, bike /canicross/ duathlon also. All this on one ticket. \nThe trails are mainly flat\, mostly grass\, woodland tracks with short fire road sections. Nothing too harsh or boring for dogs\, lots of interesting turns and surroundings to keep it fun for dog/runner/rider. \nWe will have wave times to suits bikes / duathlon /canicross. \nTiming will be approx from 9:30 am – 11:45 am. \nYou can attend all slots or come to the one that suits the discipline you want to take part in. \nTickets are limited and are per person\, please book on asap to avoid disappointment. \n\n\nKA11 5AT\nShewalton Woods\, Irvine\n\nParking is at the papermill car park. They have kindly agreed to let us use the area just inside their main car park. Click here for parking location link \n\n****\nThere are no bin facilities on site\, please respect the environment and take any litter etc home\n****\n\nSee our class info page for more detail on what to expect from a Cani-Fit class \nAdditional Info \n\nBring your own bike\nBring your own bikejor arm & line\nBring water for your dog\nHelmets are compulsory\, gloves are advised\nBe prepared to get a bit muddy!\nPlease read our Weather Cancellation Policy\n\n
URL:https://cani-fit.com/event/canicross-bikejor-marked-route-time-trial/
LOCATION:Shewalton Woods\, KA11 5AT\, United Kingdom
CATEGORIES:Ayrshire,Classes,Events
ATTACH;FMTTYPE=image/png:https://cani-fit.com/wp-content/uploads/2023/07/Duathlon.png
ORGANIZER;CN="Lindsay%20Johnson":MAILTO:info@cani-fit.com
GEO:55.583021;-4.6316218
END:VEVENT
END:VCALENDAR