BEGIN:VCALENDAR
VERSION:2.0
PRODID:-//Cani-Fit - ECPv4.9.9//NONSGML v1.0//EN
CALSCALE:GREGORIAN
METHOD:PUBLISH
X-WR-CALNAME:Cani-Fit
X-ORIGINAL-URL:https://cani-fit.com
X-WR-CALDESC:Events for Cani-Fit
BEGIN:VTIMEZONE
TZID:UTC
BEGIN:STANDARD
TZOFFSETFROM:+0000
TZOFFSETTO:+0000
TZNAME:UTC
DTSTART:20230101T000000
END:STANDARD
END:VTIMEZONE
BEGIN:VEVENT
DTSTART;TZID=UTC:20230930T110000
DTEND;TZID=UTC:20230930T123000
DTSTAMP:20260420T222719
CREATED:20230808T141524Z
LAST-MODIFIED:20230808T214530Z
UID:62459-1696071600-1696077000@cani-fit.com
SUMMARY:Cani-Tour Torwood Castle and Blue Pool - Canicross
DESCRIPTION:Running tour of approx 8km\, please ensure your dog and yourself have suitable fitness. \nNot suitable for beginners. \n  \nFK6 6RH \nMeeting at Substation Denny North\, Falkirk\, Denny FK6 6RH\, UK \nLimited parking at 2 locations – \nhttps://w3w.co/staked.albatross.flickers \nhttps://w3w.co/identify.allies.butter \nSee our class info page for more detail on what to expect from a Cani-Fit class \nAdditional Info\n\nWear trainers and clothes you can exercise in\nBring water and a treat for your dog\nUnsuitable for dogs under 11 months\nDo not feed your dog for approx 3 hours prior to class start\nPlease read our Weather Cancellation Policy\n\nCLASS TYPE\nCani-Tour\, Canicross class \n
URL:https://cani-fit.com/event/cani-tour-torwood-castle/
LOCATION:Substation Denny North\, Falkirk\, FK6 6RH\, United Kingdom
CATEGORIES:Classes,Falkirk,Stirling
ATTACH;FMTTYPE=image/jpeg:https://cani-fit.com/wp-content/uploads/2023/08/Torwood-Blue-Pool-scaled.jpg
ORGANIZER;CN="Rhona%20Stevenson":MAILTO:rhona761@gmail.com
END:VEVENT
END:VCALENDAR