BEGIN:VCALENDAR
VERSION:2.0
PRODID:-//Cani-Fit - ECPv4.9.9//NONSGML v1.0//EN
CALSCALE:GREGORIAN
METHOD:PUBLISH
X-WR-CALNAME:Cani-Fit
X-ORIGINAL-URL:https://cani-fit.com
X-WR-CALDESC:Events for Cani-Fit
BEGIN:VTIMEZONE
TZID:UTC
BEGIN:STANDARD
TZOFFSETFROM:+0000
TZOFFSETTO:+0000
TZNAME:UTC
DTSTART:20260101T000000
END:STANDARD
END:VTIMEZONE
BEGIN:VEVENT
DTSTART;TZID=UTC:20260215T130000
DTEND;TZID=UTC:20260215T143000
DTSTAMP:20260422T091132
CREATED:20260210T222114Z
LAST-MODIFIED:20260211T101529Z
UID:67245-1771160400-1771165800@cani-fit.com
SUMMARY:Cani-Tour Blue Pool Torwood
DESCRIPTION:Running tour of approx 6km\, please ensure your dog and yourself have suitable fitness. \nNot suitable for beginners due to the distance which will be covered. \n  \nMeeting at Winchester Avenue \nClick here for What3Words location \nSee our class info page for more detail on what to expect from a Cani-Fit class \nAdditional Info\n\nWear trainers and clothes you can exercise in\nBring water and a treat for your dog\nUnsuitable for dogs under 11 months\nDo not feed your dog for approx 3 hours prior to class start\nPlease read our Weather Cancellation Policy\n\nCLASS TYPE\nCani-Tour\, Canicross class \n
URL:https://cani-fit.com/event/cani-tour-blue-pool-torwood-3/
LOCATION:Winchester Ave\, Denny\, FK6\, UK\, United Kingdom
CATEGORIES:Classes,Falkirk,Stirling
ATTACH;FMTTYPE=image/jpeg:https://cani-fit.com/wp-content/uploads/2023/08/Torwood-Blue-Pool-scaled.jpg
ORGANIZER;CN="Rhona%20Stevenson":MAILTO:rhona761@gmail.com
END:VEVENT
END:VCALENDAR