BEGIN:VCALENDAR
VERSION:2.0
PRODID:-//Cani-Fit - ECPv4.9.9//NONSGML v1.0//EN
CALSCALE:GREGORIAN
METHOD:PUBLISH
X-WR-CALNAME:Cani-Fit
X-ORIGINAL-URL:https://cani-fit.com
X-WR-CALDESC:Events for Cani-Fit
BEGIN:VTIMEZONE
TZID:UTC
BEGIN:STANDARD
TZOFFSETFROM:+0000
TZOFFSETTO:+0000
TZNAME:UTC
DTSTART:20230101T000000
END:STANDARD
END:VTIMEZONE
BEGIN:VEVENT
DTSTART;TZID=UTC:20230925T100000
DTEND;TZID=UTC:20230925T113000
DTSTAMP:20260421T002434
CREATED:20230808T123230Z
LAST-MODIFIED:20230808T123230Z
UID:62453-1695636000-1695641400@cani-fit.com
SUMMARY:Cani Tour - Blantyre History Hike
DESCRIPTION:Blantyre’s history spans ancient to modern eras with the earliest settlement thought to have been formed in the Bronze Age. This tour will take in historical points of interest between Redlees Urban Park (WW2 Clyde AA Defences Blantyreferme) and famous son David Livingstone’s birthplace where we will stop for a coffee break if the weather is favourable. \n  \nMeeting point here https://what3words.com/loving.danger.hosts \n\n\nSee our class info page for more detail on what to expect from a Cani-Fit class.\n\n\nAdditional Info\n\nWear trainers and clothes you can exercise in\nBring water and a treat for your dog\nDo not feed your dog for approx 3 hours prior to class start\nUnsuitable for dogs under 12 months\nPlease read our Weather Cancellation Policy\n\nCLASS TYPE\nCani-Tour\, Cani-Hike \n
URL:https://cani-fit.com/event/cani-tour-blantyre/
LOCATION:Redlees Urban Park\, G72 9UP\, United Kingdom
CATEGORIES:Classes,North Lanarkshire,South Lanarkshire
ATTACH;FMTTYPE=image/jpeg:https://cani-fit.com/wp-content/uploads/2022/05/Gartloch_overlook-scaled-e1651575318961.jpg
ORGANIZER;CN="Christine%20Switzer":MAILTO:christine.canifit@gmail.com
END:VEVENT
END:VCALENDAR