BEGIN:VCALENDAR
VERSION:2.0
PRODID:-//Cani-Fit - ECPv4.9.9//NONSGML v1.0//EN
CALSCALE:GREGORIAN
METHOD:PUBLISH
X-WR-CALNAME:Cani-Fit
X-ORIGINAL-URL:https://cani-fit.com
X-WR-CALDESC:Events for Cani-Fit
BEGIN:VTIMEZONE
TZID:UTC
BEGIN:STANDARD
TZOFFSETFROM:+0000
TZOFFSETTO:+0000
TZNAME:UTC
DTSTART:20250101T000000
END:STANDARD
END:VTIMEZONE
BEGIN:VEVENT
DTSTART;TZID=UTC:20250608T103000
DTEND;TZID=UTC:20250608T120000
DTSTAMP:20260420T202109
CREATED:20250506T135708Z
LAST-MODIFIED:20250506T135708Z
UID:66013-1749378600-1749384000@cani-fit.com
SUMMARY:Cani-Hike Belleisle - Rozelle
DESCRIPTION:\n\n4 mile hike Meeting outside the stables cafe 10:30 am. Cafe is dog friendly. \n\nMeeting Point – Car Park @ Stables Cafe\, KA7 4DU \n\nSee our class info page for more detail on what to expect from a Cani-Fit class \nAdditional Info\n\nWear trainers and clothes you can exercise in\nBring water and a treat for your dog\nDo not feed your dog for approx 3 hours prior to class start\nUnsuitable for dogs under 11 months\n** All winter evening classes require you to bring a headtorch and some Hi-Viz/reflective clothing**\nPlease read our Weather Cancellation Policy\n\nCLASS TYPE\nCani-Hike \nYou can now purchase a rolling 3 class pass which can be used at any canicross or cani-hike class over an 8 week/2 block period. Simply purchase the pass and notify the leader that you will be attending using the pass. \nYou can also purchase a monthly pass which allows you to attend any 8 canicross or hike classes in the calendar month. Again\, simply purchase the pass and notify the leader. \n
URL:https://cani-fit.com/event/cani-hike-belleisle-rozelle/
LOCATION:Belleisle\, Stables Cafe Car Park\, KA7 4DU\, United Kingdom
CATEGORIES:Ayrshire,Classes
ATTACH;FMTTYPE=image/png:https://cani-fit.com/wp-content/uploads/2025/05/Screenshot-2025-05-06-145425.png
ORGANIZER;CN="Lindsay%20Johnson":MAILTO:info@cani-fit.com
END:VEVENT
END:VCALENDAR