BEGIN:VCALENDAR
VERSION:2.0
PRODID:-//Cani-Fit - ECPv4.9.9//NONSGML v1.0//EN
CALSCALE:GREGORIAN
METHOD:PUBLISH
X-WR-CALNAME:Cani-Fit
X-ORIGINAL-URL:https://cani-fit.com
X-WR-CALDESC:Events for Cani-Fit
BEGIN:VTIMEZONE
TZID:UTC
BEGIN:STANDARD
TZOFFSETFROM:+0000
TZOFFSETTO:+0000
TZNAME:UTC
DTSTART:20210101T000000
END:STANDARD
END:VTIMEZONE
BEGIN:VEVENT
DTSTART;TZID=UTC:20210116T080000
DTEND;TZID=UTC:20210417T233000
DTSTAMP:20260419T144024
CREATED:20210116T205118Z
LAST-MODIFIED:20210125T201654Z
UID:50995-1610784000-1618702200@cani-fit.com
SUMMARY:Cani-Fit Elevation League
DESCRIPTION:Please read all the below info before signing up! Tickets can be purchased at the bottom of the page. \nRun\, hike or bike with your dog!  Challenge yourself to tackle those hillier routes you usually avoid. Speed doesn’t matter here; it’s all about how high you can climb! \nRules \nFor each month submit a screenshot of your best elevation gained in the distance specified below.  We need to see the time elapsed\, not just moving time\, to show it’s a single continuous activity. (So no pausing watches on the downhills or flat stretches!) \n  \nDeadlines are : \nMonth 1: Feb 13th \nMonth 2: 13th March \nMonth 3: 30th April \nIf you don’t live in a particularly hilly area then work with what you have and do some loops or hill reps. Please don’t do hill reps for the whole task – you are likely to put your dog off harness sports for life. \nPlease remember your dog’s welfare\, use appropriate kit and be considerate in trail surface choices. Dogs must be more than 12 months old. \nAdhere to the COVID-19 guidance and restrictions for your local area. \nResults will be collated and points awarded and carried forward each month. Prizes for top scorer in each category after 3 months. \nEvidence should be submitted to heathercanifit@gmail.com \nAdults  \nMale  Age 16 -39\, 40 – 49 and 50+. \nFemale  Age 16 -39\, 40 – 49 and 50+. \nKids \nJunior 7-10\, Girls 11-15\, Boys 11-15. \n£10 entry fee for adults\, £5 for under 16s. \n Distances – Adults \nMonth 1- a 5k circular route \nMonth 2- a 7K out and back route \nMonth 3- a 10k adventure route \nDistances – Kids \nMonth 1 – a 1k circular route \nMonth 2- a 2k circular route \nMonth 3- a 3k adventure route \n
URL:https://cani-fit.com/event/cani-fit-elevation-league/
CATEGORIES:Events
ATTACH;FMTTYPE=image/png:https://cani-fit.com/wp-content/uploads/2021/01/elev.png
END:VEVENT
END:VCALENDAR