BEGIN:VCALENDAR
VERSION:2.0
PRODID:-//Cani-Fit - ECPv4.9.9//NONSGML v1.0//EN
CALSCALE:GREGORIAN
METHOD:PUBLISH
X-WR-CALNAME:Cani-Fit
X-ORIGINAL-URL:https://cani-fit.com
X-WR-CALDESC:Events for Cani-Fit
BEGIN:VTIMEZONE
TZID:UTC
BEGIN:STANDARD
TZOFFSETFROM:+0000
TZOFFSETTO:+0000
TZNAME:UTC
DTSTART:20230101T000000
END:STANDARD
END:VTIMEZONE
BEGIN:VEVENT
DTSTART;TZID=UTC:20230811T190000
DTEND;TZID=UTC:20230811T210000
DTSTAMP:20260424T040518
CREATED:20230719T095332Z
LAST-MODIFIED:20230719T095332Z
UID:62296-1691780400-1691787600@cani-fit.com
SUMMARY:Calderglen Waterfall Hike Cani-Tour
DESCRIPTION:Cani-Tours are a little further than our regular classes\, please be prepared to be out a little longer. \nCani-Hiking is a power walking only class . No running ! Come learn new routes\, socialise your dogs with others\, learn the basics of Cani-Fit at a fast walking pace. Suited to those who for whatever reason can not or do not want to run! \nMeeting point is the car park beside the small animal zoo \nClick here for What3Words location link \nPostcode:  G75 0QZ \nSee our class info page for more detail on what to expect from a Cani-Fit class \nAdditional Info\n\nWear trainers and clothes you can exercise in\nBring water and a treat for your dog\nUnsuitable for dogs under 11 months\nDo not feed your dog for approx 3 hours prior to class start\n** All winter evening classes require you to bring a headtorch and some Hi-Viz/reflective clothing**\nPlease read our Weather Cancellation Policy\n\nABILITY LEVEL\nPOWER WALKING\, CANI-TOUR \n
URL:https://cani-fit.com/event/calderglen-hike-cani-tour/
LOCATION:Calderglen Country Park\, G75 0QZ\, United Kingdom
CATEGORIES:Classes,North Lanarkshire,South Lanarkshire
ATTACH;FMTTYPE=image/jpeg:https://cani-fit.com/wp-content/uploads/2023/03/Calderglen-scaled-e1679324513763.jpg
ORGANIZER;CN="Christine%20Switzer":MAILTO:christine.canifit@gmail.com
GEO:55.747881;-4.1433234
END:VEVENT
END:VCALENDAR