BEGIN:VCALENDAR
VERSION:2.0
PRODID:-//Cani-Fit - ECPv4.9.9//NONSGML v1.0//EN
CALSCALE:GREGORIAN
METHOD:PUBLISH
X-WR-CALNAME:Cani-Fit
X-ORIGINAL-URL:https://cani-fit.com
X-WR-CALDESC:Events for Cani-Fit
BEGIN:VTIMEZONE
TZID:UTC
BEGIN:STANDARD
TZOFFSETFROM:+0000
TZOFFSETTO:+0000
TZNAME:UTC
DTSTART:20220101T000000
END:STANDARD
END:VTIMEZONE
BEGIN:VEVENT
DTSTART;TZID=UTC:20220116T090000
DTEND;TZID=UTC:20220116T110000
DTSTAMP:20260422T134839
CREATED:20211201T121706Z
LAST-MODIFIED:20211201T121706Z
UID:57492-1642323600-1642330800@cani-fit.com
SUMMARY:Ayrshire Bikejor Practice Session
DESCRIPTION:A session for you to come and practice your bikejor skills on a route given by our bikejor leaders. Not suitable for total beginners\, you should have attended bikejor sessions before.\n\nKA11 5AT\nShewalton Woods\, Irvine. Meeting point is small car park off Moss Drive (quite hidden!) on the approach to the papermill. Keep an eye out to your left hand side\, you will see the car park height barrier down the hill.\n\nClick here for What3Words location link\n\n\nSee our class info page for more detail on what to expect from a Cani-Fit class \nAdditional Info \n\nDogs included! Dogs should  know their canicross commands\nBring your own bike\nBring your own bikejor arm & line\nBring water for your dog\nHelmets are compulsory\, gloves are advised\nBe prepared to get a bit muddy!\nPlease read our Weather Cancellation Policy\n\n
URL:https://cani-fit.com/event/bikejor-10/
LOCATION:Shewalton Woods\, KA11 5AT\, United Kingdom
CATEGORIES:Ayrshire,Classes
ATTACH;FMTTYPE=image/jpeg:https://cani-fit.com/wp-content/uploads/2021/08/bikejor-refresher-scaled-e1628845642328.jpg
ORGANIZER;CN="Amy%20Bissett":MAILTO:sbmcycleskills@gmail.com
GEO:55.583021;-4.6316218
END:VEVENT
END:VCALENDAR