BEGIN:VCALENDAR
VERSION:2.0
PRODID:-//Cani-Fit - ECPv4.9.9//NONSGML v1.0//EN
CALSCALE:GREGORIAN
METHOD:PUBLISH
X-WR-CALNAME:Cani-Fit
X-ORIGINAL-URL:https://cani-fit.com
X-WR-CALDESC:Events for Cani-Fit
BEGIN:VTIMEZONE
TZID:UTC
BEGIN:STANDARD
TZOFFSETFROM:+0000
TZOFFSETTO:+0000
TZNAME:UTC
DTSTART:20210101T000000
END:STANDARD
END:VTIMEZONE
BEGIN:VEVENT
DTSTART;TZID=UTC:20211030T114500
DTEND;TZID=UTC:20211030T124500
DTSTAMP:20260419T135642
CREATED:20210908T110647Z
LAST-MODIFIED:20210930T115519Z
UID:55611-1635594300-1635597900@cani-fit.com
SUMMARY:Auchincruive Cani-Hike
DESCRIPTION:Cani-Hiking is a power walking only class . No running ! Come learn new routes\, socialise your dogs with others\, learn the basics of Cani-Fit at a fast walking pace. Suited to those who for whatever reason can not or do not want to run ! \nMeeting at the JF Niven Building – on right hand side after entering main estate entrance.\nKA6 5HW\n\nClick here for What3Words location link \nSee our class info page for more detail on what to expect from a Cani-Fit class. \nAdditional Info\n\nPower Walk only\nWear trainers and clothes you can exercise in\nBring water and a treat for your dog\nUnsuitable for dogs under 10 months\nPlease read our Weather Cancellation Policy\n\nABILITY LEVEL\nPOWER WALKING \n
URL:https://cani-fit.com/event/auchincruive-2/
LOCATION:Auchincruive\, KA6 5HW
CATEGORIES:Ayrshire,Classes
ATTACH;FMTTYPE=image/jpeg:https://cani-fit.com/wp-content/uploads/2020/07/Bluebells-scaled-e1594374460268.jpg
ORGANIZER;CN="Leigh-Ann%20Cherry":MAILTO:Leigh-Ann_Cherry@sky.com
GEO:55.4791407;-4.5686566
END:VEVENT
END:VCALENDAR