BEGIN:VCALENDAR
VERSION:2.0
PRODID:-//Cani-Fit - ECPv4.9.9//NONSGML v1.0//EN
CALSCALE:GREGORIAN
METHOD:PUBLISH
X-WR-CALNAME:Cani-Fit
X-ORIGINAL-URL:https://cani-fit.com
X-WR-CALDESC:Events for Cani-Fit
BEGIN:VTIMEZONE
TZID:UTC
BEGIN:STANDARD
TZOFFSETFROM:+0000
TZOFFSETTO:+0000
TZNAME:UTC
DTSTART:20220101T000000
END:STANDARD
END:VTIMEZONE
BEGIN:VEVENT
DTSTART;VALUE=DATE:20221001
DTEND;VALUE=DATE:20260501
DTSTAMP:20260425T115019
CREATED:20220110T123232Z
LAST-MODIFIED:20260308T211028Z
UID:58018-1664582400-1777593599@cani-fit.com
SUMMARY:Rolling 3 Class Pass
DESCRIPTION:This pass allows you to attend up to 3 of our canicross or hike classes over the course of 2 blocks/8 weeks \nSimply contact the class leader to advise that you are coming and this will be recorded. \nYour 3 classes must be attended within 8 weeks of purchase\, the rollover period cannot be extended. \nSee our class info page for more detail on what to expect from a Cani-Fit class \n\nPlease read our Weather Cancellation Policy\n\n  \n
URL:https://cani-fit.com/event/3-class/
LOCATION:Various\, Various
CATEGORIES:Ayrshire,Classes,East Dunbartonshire,Falkirk,Fife,Hampshire,Inverclyde,North Lanarkshire,Renfrewshire,Scottish Borders,South Lanarkshire,Stirling,West Dunbartonshire,West Lothian
ATTACH;FMTTYPE=image/png:https://cani-fit.com/wp-content/uploads/2020/04/private-training1.png
END:VEVENT
END:VCALENDAR